BEGIN:VCALENDAR
VERSION:2.0
PRODID:icalendar-ruby
CALSCALE:GREGORIAN
METHOD:PUBLISH
BEGIN:VEVENT
DTSTAMP:20260421T135807Z
UID:42-241965@faithumcop.org
DTSTART:20260503T210000Z
DTEND:20260503T230000Z
CLASS:PUBLIC
CREATED:20260420T222732
DESCRIPTION:Join us to see the Southwest Symphony Orchestra to perform "Ah
 …Tchaikovsky" at the Ozinga Chapel Auditorium at Trinity Christian Colle
 ge (6601 West College Dr.\, Palos Heights\, IL 60463).\nTickets are $30 fo
 r adults and $25 for seniors\, with open seating. To get tickets\, please 
 visit https://www.southwestsymphony.com/event/ahtchaikovsky or call 708-80
 2-0686.\nIf you want to carpool\, please sign up outside room 4.\nPROGRAM:
  \n\nElgar\, Salut d’amour \nBizet\, Symphony in C \nTchaikovsky\, Piano
  Concerto No. 1 \n\nPERFORMERS: \n\nMembers of the Southwest Symphony Orch
 estra\nMarian Lee\, piano\n
LAST-MODIFIED:20260420T222732
LOCATION:Ozinga Chapel Auditorium\, Trinity Christian College\, 6601 West C
 ollege Drive Palos Heights\, IL 60463
SUMMARY:Southwest Symphony Orchestra "Ah…Tchaikovsky"
URL;VALUE=URI:https://www.faithumcop.org/events/southwest-symphony-orchestr
 a-ah-tchaikovsky/2026-05-03
END:VEVENT
END:VCALENDAR
