BEGIN:VCALENDAR
VERSION:2.0
PRODID:icalendar-ruby
CALSCALE:GREGORIAN
METHOD:PUBLISH
BEGIN:VEVENT
DTSTAMP:20260421T135149Z
UID:41-241963@faithumcop.org
DTSTART:20260602T163000Z
DTEND:20260602T200000Z
CLASS:PUBLIC
CREATED:20260420T220737
DESCRIPTION:Join us for lunch at Letty Mae's Tea Room in Morris. We will be
  ordering on one ticket with 20% gratuity. Please bring CASH only and an i
 tem for the food pantry.\nWe only have room for 10 people to come\, so ple
 ase sign up outside room 4.
LAST-MODIFIED:20260420T220737
LOCATION:112 E Washington St\, Morris\, IL 60450
SUMMARY:Letty Mae's Tea Room
URL;VALUE=URI:https://www.faithumcop.org/events/letty-maes-tea-room/2026-06
 -02
END:VEVENT
END:VCALENDAR
